BEGIN:VCALENDAR
VERSION:2.0
PRODID:-//muli.fr//Agenda//FR
BEGIN:VEVENT
UID:muli-14@muli.fr
DTSTART:20251206T210000
DTEND:20251206T233000
SUMMARY:[TEST]  Concert
LOCATION:RIVESALTES
END:VEVENT
END:VCALENDAR