BEGIN:VCALENDAR
VERSION:2.0
PRODID:-//muli.fr//Agenda//FR
BEGIN:VEVENT
UID:muli-15@muli.fr
DTSTART:20260116T200000
DTEND:20260116T000000
SUMMARY:[TEST]  Concert
LOCATION:RIVESALTES
END:VEVENT
END:VCALENDAR