BEGIN:VCALENDAR
VERSION:2.0
PRODID:-//muli.fr//Agenda//FR
BEGIN:VEVENT
UID:muli-16@muli.fr
DTSTART:20251227T200000
DTEND:20251227T000000
SUMMARY:[TEST] soirée concert
LOCATION:Bompas
END:VEVENT
END:VCALENDAR