BEGIN:VCALENDAR
VERSION:2.0
PRODID:-//muli.fr//Agenda//FR
BEGIN:VEVENT
UID:muli-28@muli.fr
DTSTART:20260109T203000
DTEND:20260109T233000
SUMMARY:Soirée concert
LOCATION:Canet-en-Roussillon
END:VEVENT
END:VCALENDAR