BEGIN:VCALENDAR
VERSION:2.0
PRODID:-//muli.fr//Agenda//FR
BEGIN:VEVENT
UID:muli-32@muli.fr
DTSTART:20260530T210000
DTEND:20260530T000000
SUMMARY:Soirée concert
LOCATION:Canet-en-Roussillon
END:VEVENT
END:VCALENDAR