BEGIN:VCALENDAR
VERSION:2.0
PRODID:-//muli.fr//Agenda//FR
BEGIN:VEVENT
UID:muli-33@muli.fr
DTSTART:20260704T210000
DTEND:20260704T000000
SUMMARY:Soirée concert
LOCATION:Narbonne-Plage
END:VEVENT
END:VCALENDAR